BEGIN:VCALENDAR
VERSION:2.0
PRODID:-//Emonatura - ECPv6.15.12.2//NONSGML v1.0//EN
CALSCALE:GREGORIAN
METHOD:PUBLISH
X-WR-CALNAME:Emonatura
X-ORIGINAL-URL:https://www.emonatura.es
X-WR-CALDESC:Eventos para Emonatura
REFRESH-INTERVAL;VALUE=DURATION:PT1H
X-Robots-Tag:noindex
X-PUBLISHED-TTL:PT1H
BEGIN:VTIMEZONE
TZID:UTC
BEGIN:STANDARD
TZOFFSETFROM:+0000
TZOFFSETTO:+0000
TZNAME:UTC
DTSTART:20250101T000000
END:STANDARD
END:VTIMEZONE
BEGIN:VEVENT
DTSTART;VALUE=DATE:20260418
DTEND;VALUE=DATE:20260419
DTSTAMP:20260422T104530
CREATED:20220505T115847Z
LAST-MODIFIED:20260129T110633Z
UID:789-1776470400-1776556799@www.emonatura.es
SUMMARY:"Sensaciones que estremecen"
DESCRIPTION:Parque Regional de Calblanque (Murcia)
URL:https://www.emonatura.es/event/sensaciones-que-estremecen-6/
LOCATION:Parque Regional de Calblanque
CATEGORIES:Senderos naturales con inteligencia emocional
ATTACH;FMTTYPE=image/jpeg:https://www.emonatura.es/wp-content/uploads/2021/12/CSC_0834-copia-scaled.jpg
END:VEVENT
END:VCALENDAR